BEGIN:VCALENDAR
VERSION:2.0
PRODID:-//wp-events-plugin.com//7.2.3.1//EN
TZID:Europe/Helsinki
X-WR-TIMEZONE:Europe/Helsinki
BEGIN:VEVENT
UID:3-212124@kohokohdat.fi
DTSTART;TZID=Europe/Helsinki:20260213T180000
DTEND;TZID=Europe/Helsinki:20260213T180000
DTSTAMP:20260210T125528Z
URL:https://kohokohdat.fi/helsinki/tapahtuma/april-jazz-club-xmas-special-
 joulukonsertti-sami-saari-jazzpojat/
SUMMARY:April Jazz Club: Jim Snidero Quartet (US/NO/SE/FI)
DESCRIPTION:April Jazz Club tarjoilee jazzklubi-iltoja Tapiola Gardenissa\,
  uudessa tapahtumatila Kuplassa ja Näyttelykeskus WeeGeellä Espoon moder
 nin taiteen museo EMMAssa.\nTapiola Gardenissa konsertin lomassa voi nautt
 ia Grill It! -ravintolan antimista. April Jazz Club + WeeGee -klubisarja t
 aas tuo livemusiikin museoympäristöön.\n\nGrammy-palkittu alttosaksofon
 isti\, säveltäjä ja kirjailija Jim Snidero kiteyttää sen\, mikä jazz
 issa on sekä ainutlaatuista että vangitsevaa. Häntä on ylistetty ”al
 ttosaksofonivirtuoosiksi” (DownBeat)\, hänen improvisaatiotaitojaan on 
 kuvailtu ”käsittämättömiksi” (The Guardian)\, ja muusikon alttosak
 sofonisoinnin sanottu olevan ”yksi maailman rikkaimmista ja\n\n&nbsp\;
CATEGORIES:Jazz,Keikat
LOCATION:Original Sokos Hotel Tapiola Garden\, Tapionaukio 3\, Espoo\, Suom
 i
GEO:60.177298;24.807073
X-APPLE-STRUCTURED-LOCATION;VALUE=URI;X-ADDRESS=Tapionaukio 3\, Espoo\, Suo
 mi;X-APPLE-RADIUS=100;X-TITLE=Original Sokos Hotel Tapiola Garden:geo:60.1
 77298,24.807073
END:VEVENT
BEGIN:VEVENT
UID:3-214353@kohokohdat.fi
DTSTART;TZID=Europe/Helsinki:20260313T180000
DTEND;TZID=Europe/Helsinki:20260313T180000
DTSTAMP:20260210T125750Z
URL:https://kohokohdat.fi/helsinki/tapahtuma/april-jazz-club-jluotsi/
SUMMARY:April Jazz Club: Luotsi
DESCRIPTION:April Jazz Club tarjoilee jazzklubi-iltoja Tapiola Gardenissa\,
  uudessa tapahtumatila Kuplassa ja Näyttelykeskus WeeGeellä Espoon moder
 nin taiteen museo EMMAssa.\nTapiola Gardenissa konsertin lomassa voi nautt
 ia Grill It! -ravintolan antimista. April Jazz Club + WeeGee -klubisarja t
 aas tuo livemusiikin museoympäristöön.
CATEGORIES:Jazz,Keikat
LOCATION:Original Sokos Hotel Tapiola Garden\, Tapionaukio 3\, Espoo\, Suom
 i
GEO:60.177298;24.807073
X-APPLE-STRUCTURED-LOCATION;VALUE=URI;X-ADDRESS=Tapionaukio 3\, Espoo\, Suo
 mi;X-APPLE-RADIUS=100;X-TITLE=Original Sokos Hotel Tapiola Garden:geo:60.1
 77298,24.807073
END:VEVENT
BEGIN:VEVENT
UID:3-214354@kohokohdat.fi
DTSTART;TZID=Europe/Helsinki:20260327T180000
DTEND;TZID=Europe/Helsinki:20260327T180000
DTSTAMP:20260210T125757Z
URL:https://kohokohdat.fi/helsinki/tapahtuma/april-jazz-club-koivula-forst
 i-paatelma/
SUMMARY:April Jazz Club: Koivula–Försti–Paatelma
DESCRIPTION:April Jazz Club tarjoilee jazzklubi-iltoja Tapiola Gardenissa\,
  uudessa tapahtumatila Kuplassa ja Näyttelykeskus WeeGeellä Espoon moder
 nin taiteen museo EMMAssa.\nTapiola Gardenissa konsertin lomassa voi nautt
 ia Grill It! -ravintolan antimista. April Jazz Club + WeeGee -klubisarja t
 aas tuo livemusiikin museoympäristöön.
CATEGORIES:Jazz,Keikat
LOCATION:Original Sokos Hotel Tapiola Garden\, Tapionaukio 3\, Espoo\, Suom
 i
GEO:60.177298;24.807073
X-APPLE-STRUCTURED-LOCATION;VALUE=URI;X-ADDRESS=Tapionaukio 3\, Espoo\, Suo
 mi;X-APPLE-RADIUS=100;X-TITLE=Original Sokos Hotel Tapiola Garden:geo:60.1
 77298,24.807073
END:VEVENT
BEGIN:VEVENT
UID:3-214355@kohokohdat.fi
DTSTART;TZID=Europe/Helsinki:20260522T180000
DTEND;TZID=Europe/Helsinki:20260522T180000
DTSTAMP:20260210T125811Z
URL:https://kohokohdat.fi/helsinki/tapahtuma/april-jazz-club-henri-mantyla
 -trio-feat-peter-asplund/
SUMMARY:April Jazz Club: Henri Mäntylä Trio feat. Peter Asplund
DESCRIPTION:April Jazz Club tarjoilee jazzklubi-iltoja Tapiola Gardenissa\,
  uudessa tapahtumatila Kuplassa ja Näyttelykeskus WeeGeellä Espoon moder
 nin taiteen museo EMMAssa.\nTapiola Gardenissa konsertin lomassa voi nautt
 ia Grill It! -ravintolan antimista. April Jazz Club + WeeGee -klubisarja t
 aas tuo livemusiikin museoympäristöön.
CATEGORIES:Jazz,Keikat
LOCATION:Original Sokos Hotel Tapiola Garden\, Tapionaukio 3\, Espoo\, Suom
 i
GEO:60.177298;24.807073
X-APPLE-STRUCTURED-LOCATION;VALUE=URI;X-ADDRESS=Tapionaukio 3\, Espoo\, Suo
 mi;X-APPLE-RADIUS=100;X-TITLE=Original Sokos Hotel Tapiola Garden:geo:60.1
 77298,24.807073
END:VEVENT
BEGIN:VTIMEZONE
TZID:Europe/Helsinki
X-LIC-LOCATION:Europe/Helsinki
BEGIN:STANDARD
DTSTART:20251026T030000
TZOFFSETFROM:+0300
TZOFFSETTO:+0200
TZNAME:EET
END:STANDARD
BEGIN:DAYLIGHT
DTSTART:20260329T040000
TZOFFSETFROM:+0200
TZOFFSETTO:+0300
TZNAME:EEST
END:DAYLIGHT
END:VTIMEZONE
END:VCALENDAR