BEGIN:VCALENDAR
VERSION:2.0
PRODID:-//wp-events-plugin.com//7.2.3.1//EN
TZID:Europe/Helsinki
X-WR-TIMEZONE:Europe/Helsinki
BEGIN:VEVENT
UID:3-214356@kohokohdat.fi
DTSTART;TZID=Europe/Helsinki;VALUE=DATE:20260410
DTEND;TZID=Europe/Helsinki;VALUE=DATE:20260411
DTSTAMP:20260210T130155Z
URL:https://kohokohdat.fi/helsinki/tapahtuma/april-jazz-club-vespera-quart
 et/
SUMMARY:April Jazz Club: Vespera Quartet
DESCRIPTION:April Jazz Club tarjoilee jazzklubi-iltoja Tapiola Gardenissa\,
  uudessa tapahtumatila Kuplassa ja Näyttelykeskus WeeGeellä Espoon moder
 nin taiteen museo EMMAssa.\nTapiola Gardenissa konsertin lomassa voi nautt
 ia Grill It! -ravintolan antimista. April Jazz Club + WeeGee -klubisarja t
 aas tuo livemusiikin museoympäristöön.\n\n&nbsp\;\n\n&nbsp\;
ATTACH;FMTTYPE=image/jpeg:https://kohokohdat.fi/helsinki/wp-content/upload
 s/sites/3/2026/02/Vespera-Quartet.webp
CATEGORIES:Jazz,Keikat
LOCATION:Näyttelykeskus WeeGee\, Ahertajantie 5\, Espoo\, Suomi
X-APPLE-STRUCTURED-LOCATION;VALUE=URI;X-ADDRESS=Ahertajantie 5\, Espoo\, Su
 omi;X-APPLE-RADIUS=100;X-TITLE=Näyttelykeskus WeeGee:geo:0,0
END:VEVENT
BEGIN:VTIMEZONE
TZID:Europe/Helsinki
X-LIC-LOCATION:Europe/Helsinki
BEGIN:DAYLIGHT
DTSTART:20260329T040000
TZOFFSETFROM:+0200
TZOFFSETTO:+0300
TZNAME:EEST
END:DAYLIGHT
END:VTIMEZONE
END:VCALENDAR