BEGIN:VCALENDAR
VERSION:2.0
PRODID:-//wp-events-plugin.com//7.2.3.1//EN
TZID:Europe/Helsinki
X-WR-TIMEZONE:Europe/Helsinki
BEGIN:VEVENT
UID:3-194035@kohokohdat.fi
DTSTART;TZID=Europe/Helsinki:20240302T190000
DTEND;TZID=Europe/Helsinki:20240302T190000
DTSTAMP:20240216T155531Z
URL:https://kohokohdat.fi/helsinki/tapahtuma/kumpulan-komediaklubi-andre-w
 ickstrom-jamie-macdonald-jussi-herranen-jack-murda-emma-kiuru-leena-kuitun
 en-ja-kaisa-pylkkanen/
SUMMARY:Kumpulan komediaklubi: ANDRÉ WICKSTRÖM Jamie MacDonald Jussi Herr
 anen Jack Murda Emma Kiuru Leena Kuitunen ja KAISA PYLKKÄNEN
DESCRIPTION:Kumpulassa käkätetään taas katto irti\, kun lavalle nouseva
 t Andre Wickström\,  Jamie MacDonald\,  Jussi Herranen\, Jack Murda\, E
 mma Kiuru\, Leena Kuitunen ja tahtipuikkoa heiluttava Kaisa Pylkkänen.
ATTACH;FMTTYPE=image/jpeg:https://kohokohdat.fi/helsinki/wp-content/upload
 s/sites/3/2017/01/andre-wickstrom-stand-up-2015-11.jpg
CATEGORIES:Keikat,Stand up
LOCATION:Kumpulan Kylätila\, Intiankatu 31\, Helsinki\, Suomi
GEO:60.209554;24.9644
X-APPLE-STRUCTURED-LOCATION;VALUE=URI;X-ADDRESS=Intiankatu 31\, Helsinki\, 
 Suomi;X-APPLE-RADIUS=100;X-TITLE=Kumpulan Kylätila:geo:60.209554,24.9644
END:VEVENT
BEGIN:VTIMEZONE
TZID:Europe/Helsinki
X-LIC-LOCATION:Europe/Helsinki
BEGIN:STANDARD
DTSTART:20231029T030000
TZOFFSETFROM:+0300
TZOFFSETTO:+0200
TZNAME:EET
END:STANDARD
END:VTIMEZONE
END:VCALENDAR