BEGIN:VCALENDAR
VERSION:2.0
PRODID:-//wp-events-plugin.com//7.2.3.1//EN
TZID:Europe/Helsinki
X-WR-TIMEZONE:Europe/Helsinki
BEGIN:VEVENT
UID:3-194557@kohokohdat.fi
DTSTART;TZID=Europe/Helsinki;VALUE=DATE:20240801
DTEND;TZID=Europe/Helsinki;VALUE=DATE:20240909
DTSTAMP:20240801T080235Z
URL:https://kohokohdat.fi/helsinki/tapahtuma/nina-beier-osat-nykytaiteen-n
 ayttely/
SUMMARY:Nina Beier: Osat-nykytaiteen näyttely
DESCRIPTION:Nykytaiteen näyttely Osat esittelee Nina Beierin teoksia Kiasm
 assa ajalla 22.3.–8.9.2024. Kyseessä on laajin Pohjoismaissa nähty kat
 saus Beierin tuotantoon.\n[caption id="attachment_136969" align="alignnone
 " width="720"] Nina Beier\, China\, 2015. Kuva: Vegard Kleven[/caption]\n\
 nKauko-ohjattavat autot kuljettavat aidoista hiuksista tehtyjä peruukkeja
 . Vanhojen lavuaarien reiät on tukittu sikareilla\, ja posliinikoirat ova
 t saaneet pareikseen posliinimaljakot. Nina Beier käyttää teoksissaan o
 lemassa olevia esineitä ja materiaaleja. Hän rinnastaa niitä toisiinsa 
 ja tuo näin niihin kiinnittyneitä monia merkityksiä vuoropuheluun keske
 nään.\n\n\n\nKiasmassa nähtävän Osat-näyttelyn teoksissa toistuvia t
 eemoja ovat sukupuoleen liittyvät roolit ja ihmisen suhde muihin lajeihin
 . Näyttelyn teoksissa Beier on käyttänyt muun muassa mekaanisia härki
 ä ja äidinmaidonkorviketta (Beast\, 2018)\, aidoista hiuksista valmistet
 tuja peruukkeja ja kauko-ohjattavia autoja (Auto\, 2017) sekä hierovia tu
 oleja ja elektroniikkajätteestä kerättyjä arvometalleja (Manual Therap
 y\, 2016).\n\nVeistosten lisäksi Beier on toteuttanut urallaan monia perf
 ormansseja. Niistä Draama-niminen teos nähdään Kiasmassa. Esityksessä
  näyttelijät kyynelehtivät näyttelytilassa kädessään tyhjä juomala
 si. Esitys on nähtävillä perjantaisin ja lauantaisin\, tarkemmat kellon
 ajat ilmoitetaan museon verkkosivuilla.\n\nToukokuun lopussa Beierin suihk
 ulähdeteos Women &amp\; Children (2022) tulee esille altaaseen Kiasman ed
 ustalle. Teos on hankittu Kansallisgallerian kokoelmiin New Carlsberg Foun
 dationin tuella\, ja se jää museon kahvilaterassin altaaseen esille pysy
 västi.\n\nOsat-näyttely on laajin Pohjoismaissa nähty katsaus Beierin t
 uotantoon. Sen on kuratoinut Kiasman amanuenssi Piia Oksanen.\n\nMaaliskuu
 ssa 2024 Nina Beierilla avautuu Kiasman lisäksi yksityisnäyttely nykytai
 teen museo Capc:ssä Bordeaux’ssa\, Ranskassa. Itsenäisinä kokonaisuuk
 sina toimivat näyttelyt täydentävät toisiaan ja kattavat yhdessä Beie
 rin 20 vuotta jatkuneen taiteellisen uran. Myöhemmin tänä vuonna hänel
 lä avautuu yksityisnäyttely nykytaiteen museo Tamayossa Meksikon pääka
 upungissa.\n\nAukioloajat\n\nti–pe 10–20\nla ja su 10–17\nma suljett
 u\n\nKatso poikkeukset Kiasman omilta sivuilta
ATTACH;FMTTYPE=image/jpeg:https://kohokohdat.fi/helsinki/wp-content/upload
 s/sites/3/2024/03/kiasma-nayttely-NinaBeier_China_Kuva_Vegard.jpg
CATEGORIES:Näyttelyt
LOCATION:Kiasma\, Mannerheiminaukio 2\, Helsinki\, Suomi
GEO:60.172036;24.936675
X-APPLE-STRUCTURED-LOCATION;VALUE=URI;X-ADDRESS=Mannerheiminaukio 2\, Helsi
 nki\, Suomi;X-APPLE-RADIUS=100;X-TITLE=Kiasma:geo:60.172036,24.936675
END:VEVENT
BEGIN:VEVENT
UID:3-204630@kohokohdat.fi
DTSTART;TZID=Europe/Helsinki;VALUE=DATE:20250201
DTEND;TZID=Europe/Helsinki;VALUE=DATE:20250224
DTSTAMP:20250217T074005Z
URL:https://kohokohdat.fi/helsinki/tapahtuma/pauline-curnier-jardin/
SUMMARY:Pauline Curnier Jardin
DESCRIPTION:Pauline Curnier Jardinin näyttely Kiasmassa muuntaa tilan grot
 eskiksi teemapuistoksi\, jossa värikkäät kulissit ja äänimaisema houk
 uttelevat katsojaa. Näyttelyn elokuvat käsittelevät sukupuolen normeja\
 , valtaa ja väkivaltaa synkemmillä sävyillä.
ATTACH;FMTTYPE=image/jpeg:https://kohokohdat.fi/helsinki/wp-content/upload
 s/sites/3/2025/01/kiasman-nayttelyt-2025.jpg
CATEGORIES:Näyttelyt
LOCATION:Kiasma\, Mannerheiminaukio 2\, Helsinki\, Suomi
GEO:60.172036;24.936675
X-APPLE-STRUCTURED-LOCATION;VALUE=URI;X-ADDRESS=Mannerheiminaukio 2\, Helsi
 nki\, Suomi;X-APPLE-RADIUS=100;X-TITLE=Kiasma:geo:60.172036,24.936675
END:VEVENT
BEGIN:VTIMEZONE
TZID:Europe/Helsinki
X-LIC-LOCATION:Europe/Helsinki
BEGIN:DAYLIGHT
DTSTART:20240331T040000
TZOFFSETFROM:+0200
TZOFFSETTO:+0300
TZNAME:EEST
END:DAYLIGHT
BEGIN:STANDARD
DTSTART:20241027T030000
TZOFFSETFROM:+0300
TZOFFSETTO:+0200
TZNAME:EET
END:STANDARD
END:VTIMEZONE
END:VCALENDAR