BEGIN:VCALENDAR
VERSION:2.0
PRODID:-//wp-events-plugin.com//7.2.3.1//EN
TZID:Europe/Helsinki
X-WR-TIMEZONE:Europe/Helsinki
BEGIN:VEVENT
UID:3-203213@kohokohdat.fi
DTSTART;TZID=Europe/Helsinki:20241231T220000
DTEND;TZID=Europe/Helsinki:20241231T220000
DTSTAMP:20241211T141758Z
URL:https://kohokohdat.fi/helsinki/tapahtuma/helsingin-uusivuosi-mirella-s
 ara-siipola-anssi-kela-windows95man/
SUMMARY:Helsingin uusivuosi: Mirella\, Sara Siipola\, Anssi Kela\, Windows9
 5man
DESCRIPTION:Vuoden vaihtumista juhlitaan jälleen yhdessä Kansalaistorin s
 uurtapahtumassa. Illan konsertin pääesiintyjinä nähdään Windows95man
 \, Anssi Kela\, Sara Siipola ja Mirella.\n\n\nTapahtuman käynnistää lap
 siperheille suunnattu ohjelma\, jossa tänä vuonna koetaan Skidit-diskon 
 lisäksi myös illan konsertissa esiintyvien artistien vierailuja. Uudenvu
 oden aattoilta päättyy näyttävään pyronäytökseen.\n\nHelsingin uud
 envuoden suurtapahtuma toteutuu tuttuun tapaan Kansalaistorilla tähtiarti
 stien keikkojen ja lasten ohjelman parissa. Aattoillan juhlinnan käynnist
 ää klo 18 alkaen koko perhettä osallistava Skidit-disko\, jossa muun mu
 assa dj-musiikin\, tanssijoiden\, lapsikuoron ja Robo-robotin lisäksi lav
 alle nousevat myös Windows95man ja Sara Siipola. Lasten ohjelman viimeist
 elee pienempien juhlijoiden oma pyronäytös klo 18.55.\n\n\n\nLoppuillan 
 juhlakonsertti alkaa klo 22.15. Nuoremman yleisön iloksi uudenvuoden juhl
 intaa säestää marraskuussa debyyttialbuminsa julkaissut Mirella\, jonka
  jälkeen lavalle nousee Sara Siipola. Pormestari Juhana Vartiaisen uu
 denvuoden tervehdystä seuraa Anssi Kelan vain tähän tapahtumaan rä
 ätälöity esiintyminen ja illan kruunaa tämän vuoden Euroviisutähti W
 indows95man.\n\n[caption id="attachment_139579" align="alignnone" width="7
 20"] Anssi Kela. Kuva: Vuokko Salo[/caption]\n\nVuoden vaihtumisen hetkeä
  juhlistetaan näyttävällä pyronäytöksellä\, joka on koettavissa kok
 o tapahtuma-alueella Kansalaistorilta Eduskuntatalon portaille ja Töölö
 nlahden tapahtumapuistoon asti.\n\nhttps://www.youtube.com/watch?v=WB4AKpb
 b6YE\n\nLasten tapahtuma välitetään suorana lähetyksenä Yle Areenassa
  klo 18 ja TV1:ssä klo 18.20 alkaen. Emma Karasjoen ja Hanna Kataja-Ra
 hkon juontama illan juhlakonsertti välitetään suorana lähetyksenä kl
 o 22.35–00.05 Yle TV1:ssä ja Yle Areenassa.\n\nHelsingin uudenvuoden oh
 jelma:\n\nKlo 18–19\n- Lasten uusivuosi: Skidit-disko / Sara Siipola / W
 indows95man / pyronäytös\n\nKlo 22.15–00.10\n-  Juhlakonsertti: tapah
 tuman avaus / Mirella / Sara Siipola / pormestarin puhe / Anssi Kela / Win
 dows95man\n\nKlo 00\n- pyronäytös\n\nYlen kanavat\n- Lasten uusivuosi: Y
 le Areena klo 18–19 ja TV1 klo 18.20–19\n- Juhlakonsertti: Yle Areena 
 ja TV1 klo 22.35–00.05\n\nHelsingin uudenvuoden juhlan järjestää Hels
 ingin kaupunki. Perinteeksi muodostunutta juhlaa on järjestetty 1930-luvu
 lta lähtien. Tapahtuman tuottaa Helsingin tapahtumasäätiö.
ATTACH;FMTTYPE=image/jpeg:https://kohokohdat.fi/helsinki/wp-content/upload
 s/sites/3/2024/12/Helsingin_Uusivuosi_Samuli-pentti.jpg
CATEGORIES:Festivaalit,Keikat
LOCATION:Kansalaistori\, Kansalaistori\, Helsinki\, Suomi
X-APPLE-STRUCTURED-LOCATION;VALUE=URI;X-ADDRESS=Kansalaistori\, Helsinki\, 
 Suomi;X-APPLE-RADIUS=100;X-TITLE=Kansalaistori:geo:0,0
END:VEVENT
BEGIN:VTIMEZONE
TZID:Europe/Helsinki
X-LIC-LOCATION:Europe/Helsinki
BEGIN:STANDARD
DTSTART:20241027T030000
TZOFFSETFROM:+0300
TZOFFSETTO:+0200
TZNAME:EET
END:STANDARD
END:VTIMEZONE
END:VCALENDAR