BEGIN:VCALENDAR
VERSION:2.0
PRODID:-//wp-events-plugin.com//7.2.3.1//EN
TZID:Europe/Helsinki
X-WR-TIMEZONE:Europe/Helsinki
BEGIN:VEVENT
UID:3-204629@kohokohdat.fi
DTSTART;TZID=Europe/Helsinki;VALUE=DATE:20250201
DTEND;TZID=Europe/Helsinki;VALUE=DATE:20250224
DTSTAMP:20250217T074014Z
URL:https://kohokohdat.fi/helsinki/tapahtuma/tyler-mitchell-wish-this-was-
 real/
SUMMARY:Tyler Mitchell: Wish This Was Real
DESCRIPTION:Valokuvataiteilija Tyler Mitchell (s. 1995\, USA) on noussut su
 osioon muotimaailmasta. Hänet tunnetaan mustien ihmisten elämää visual
 isoivista\, kauneutta\, tyyliä ja utopioita korostavasta kuvakielestä. K
 uvaaja muistetaan myös Beyoncé-kansikuvastaan\, joka julkaistiin ​​V
 oguen kannessa. Näyttely on Mitchellin ensimmäinen yksityisnäyttely ja 
 samalla hänen debyyttinsä Pohjoismaissa.\n\nLUE LISÄÄ: Museot.fi
ATTACH;FMTTYPE=image/jpeg:https://kohokohdat.fi/helsinki/wp-content/upload
 s/sites/3/2025/01/museonayttelyt-helsinki1.jpg
CATEGORIES:Näyttelyt
LOCATION:K1 Kämp Galleria\, Mikonkatu 1\, Helsinki\, 00100\, Suomi
X-APPLE-STRUCTURED-LOCATION;VALUE=URI;X-ADDRESS=Mikonkatu 1\, Helsinki\, 00
 100\, Suomi;X-APPLE-RADIUS=100;X-TITLE=K1 Kämp Galleria:geo:0,0
END:VEVENT
BEGIN:VTIMEZONE
TZID:Europe/Helsinki
X-LIC-LOCATION:Europe/Helsinki
BEGIN:STANDARD
DTSTART:20241027T030000
TZOFFSETFROM:+0300
TZOFFSETTO:+0200
TZNAME:EET
END:STANDARD
END:VTIMEZONE
END:VCALENDAR