BEGIN:VCALENDAR
VERSION:2.0
PRODID:-//wp-events-plugin.com//7.2.3.1//EN
TZID:Europe/Helsinki
X-WR-TIMEZONE:Europe/Helsinki
BEGIN:VEVENT
UID:3-212547@kohokohdat.fi
DTSTART;TZID=Europe/Helsinki:20251212T193000
DTEND;TZID=Europe/Helsinki:20251212T193000
DTSTAMP:20251123T091703Z
URL:https://kohokohdat.fi/helsinki/tapahtuma/mirella-mirellas-jul-joulukon
 sertti-johanneksen-kirkossa/
SUMMARY:Mirella: Mirellas Jul -joulukonsertti Johanneksen kirkossa
DESCRIPTION:Suomipopin superlahjakkuuden Mirellan ainutlaatuinen joulukonse
 rtti koetaan Johanneksenkirkossa perjantaina 12.12.2025.\n\nKirkkokonserti
 ssa koetaan lämminhenkinen ja poikkeuksellinen ilta\, jossa kuullaan Mire
 llan koskettavia tulkintoja upeassa Helsingin Johanneksenkirkossa. Konsert
 issa soi rakastettuja joululauluja herkkinä sovituksina useilla kielillä
  – suomeksi\, ruotsiksi ja englanniksi.\n\nTunnelma rakentuu kiehtovan J
 ohanneksenkirkon upeasta arkkitehtuurista\, kirkon luomasta persoonallises
 ta akustiikasta ja artistin syvästä läsnäolosta. Ilta\, jossa musiikki
  ja joulun rauha ovat keskiössä. Pyydämme siis kunnioittamaan kirkon et
 ikettiä\, välttämään puhelimen käyttöä ja kuvaamista tilaisuuden a
 ikana.\n\nKatso lisää poplaulajien joulukonsertteja Helsingissä
ATTACH;FMTTYPE=image/jpeg:https://kohokohdat.fi/helsinki/wp-content/upload
 s/sites/3/2025/11/Mirella_joulukonsertit-keikat-KatariinaS.jpg
CATEGORIES:Keikat
LOCATION:Johanneksen kirkko\, Korkeavuorenkatu 12\, Helsinki\, Suomi
GEO:60.161723;24.944794
X-APPLE-STRUCTURED-LOCATION;VALUE=URI;X-ADDRESS=Korkeavuorenkatu 12\, Helsi
 nki\, Suomi;X-APPLE-RADIUS=100;X-TITLE=Johanneksen kirkko:geo:60.161723,24
 .944794
END:VEVENT
BEGIN:VTIMEZONE
TZID:Europe/Helsinki
X-LIC-LOCATION:Europe/Helsinki
BEGIN:STANDARD
DTSTART:20251026T030000
TZOFFSETFROM:+0300
TZOFFSETTO:+0200
TZNAME:EET
END:STANDARD
END:VTIMEZONE
END:VCALENDAR