BEGIN:VCALENDAR
VERSION:2.0
PRODID:-//wp-events-plugin.com//7.2.3.1//EN
TZID:Europe/Helsinki
X-WR-TIMEZONE:Europe/Helsinki
BEGIN:VEVENT
UID:3-205884@kohokohdat.fi
DTSTART;TZID=Europe/Helsinki;VALUE=DATE:20250222
DTEND;TZID=Europe/Helsinki;VALUE=DATE:20250223
DTSTAMP:20250220T121257Z
URL:https://kohokohdat.fi/helsinki/tapahtuma/finlandia-talon-avoimien-ovie
 n-paiva/
SUMMARY:Finlandia-talon avoimien ovien päivä
DESCRIPTION:Finlandia-talon jättimenestykseksi muodostunutta avoimien ovie
 n päivää vietetään helmikuussa jo toistamiseen suosittua avoimien ovi
 en päivää lauantaina 22.2.2025 klo 11–17.\nFinlandia-talo toivottaa k
 aikki tervetulleiksi tutustumaan lähemmin uudistettuun taloon sekä viett
 ämään hauskaa päivää yhdessä erilaisten ohjelmanumeroiden parissa. 
 Finlandia-talon avoimien ovien päivä järjestettiin viimeksi tammikuussa
 \, jolloin talosta kiinnostuneita kävijöitä oli yli 10 000.\n\nTAPAHTUM
 ATIEDOT\n\nAvoimien ovien päivän ohjelma on myös tällä kertaa monipuo
 linen. Perheen pienimpiä jo viimeksikin viihdyttänyt Skidit-taidekollekt
 iivi järjestää lapsille muistipeliturnauksen ja sukkadiskon\, minkä li
 säksi halukkaat pääsevät suunnittelemaan itselleen omannäköiset sukk
 aset sukkatehtaalla. Lapsia on tanssittamassa ja laulattamassa Piazzalla j
 älleen myös lastenmusiikkiorkesteri PÄISTIKKA Duo.\n\nAikuisille on tie
 dossa tuttuun tapaan kiinnostavia teemakeskusteluja. Kirjailija Heikki Aal
 to-Alanen ja Finlandia-talon näyttelyn käsikirjoittaja Kirsti Manninen a
 vaavat kesällä avautuvan näyttelyn tarinaa Aaltojen perhealbumin kuvien
  kautta. Kosmopoliitti\, maailmalla menestynyt huippukapellimestari Jukka-
 Pekka Saraste muistelee\, millainen Finlandia-sali on kapellimestarin koke
 mana.\n\nEdellinen avoimien ovien päivä osoitti\, että ihmiset ovat tä
 llä hetkellä hyvin kiinnostuneita Finlandia-talosta ja että tällaisill
 e tapahtumille on kaupungissa kysyntää.\n\n“Ensimmäinen avoimien ovie
 n tapahtumamme oli jättimenestys. Kävijöitä meillä oli tuona lauantai
 na yli 10 000\, mikä yllätti meidät täysin. Runsaan kävijäkunnan nuo
 rimmat vieraamme olivat hädin tuskin muutaman kuukauden ikäisiä ja vanh
 immat taas yli 90-vuotiaita"\, iloitsee Finlandia-talon projektipäällikk
 ö Annikka Alanko.\n\nAvoimien ovien päivän ohjelma on maksutonta (pl. n
 aulakkopalvelu).\nOHJELMA\nLasten ohjelma: Skidi bileet Finlandia-talossa 
 klo 11–14\nKlo 11–14 Sukkatehdas ja Muistipeliturnaus\nAktiviteettia n
 iin aivoille kuin käsillekin. Finlandia-muistipeliturnaus järjestetään
  ensimmäistä kertaa koskaan. Sukkatehtaalla taas jokainen voi suunnitell
 a juuri sellaiset sukat kuin haluaa – ja suunnata seuraavaksi vaikka tan
 ssilattialle.\nKlo 12–13 Päistikka DUO (Piazza)\nPäistikka DUO pistä
 ä jälleen parastaan. On laulua\, ukulelea\, sampleja\, kitaraa ja trumpe
 ttia.\nKlo 13–14 Sukkadisko! (Piazza)\nMeno jatkuu kotoisalla diskohetke
 llä\, kuin kotibileissä! DJ hapan korppu veivaa hitit keittiön tiskilt
 ä ja pyykkikone rupsuttaa keskellä Piazzaa.\nHuomiothan\, että Piazzan 
 tila ei ole täysin esteetön. Lastenvaunuilla tai rattailla ei valitettav
 asti pääse Piazzalle\, vaan ne tulee jättää ala-aulaan.\nAikuisten oh
 jelma\nKlo 12–13 Luento ja keskustelutilaisuus: Ainon ja Alvarin kuvien 
 taika (Helsinki-sali) Heikki Aalto-Alanen avaa perheensä kotialbumia. Alb
 umin kuvien kautta avataan Finlandia-talon näyttelyn tarinaa yhdessä kä
 sikirjoittaja Kirsti Mannisen ja Heikki Aalto-Alasen seurassa.\n\nKlo 15
 –16 Finlandia-salin muistoja (Finlandia-sali)\nKapellimestari Jukka-Pekk
 a Saraste muistelee\, millainen Finlandia-sali oli kapellimestarin kokeman
 a. Saraste kuvaa muistoja ja hetkiä ajasta\, jolloin orkesterien kotipes
 ä oli Finlandia-talo.\nTalokierrokset ja -kurkistukset\nOpastetut kierrok
 set\nFinlandia-talossa järjestetään jälleen kolme (3) opastettua talok
 ierrosta yhteistyössä Alvar Aalto -säätiön kanssa. Opastetut kierroks
 et ovat olleet hyvin suosittuja ja lauantain 22.2. kierrokset ovat jo lopp
 uunvarattu. Vapautuneita paikkoja kierroksille voi tiedustella paikan pä
 ällä.\n\nKierrokset lähtevät palvelupisteeltä:\n\nklo 11.30 FIN/ENG\n
 \nklo 13.30 FIN/ENG\n\nklo 15.30 FIN/ENG\nOmatoimiset kierrokset opaskarta
 n avulla\nFinlandia-talon voi kiertää myös oman tarinallisen opaskartan
  avulla. Opaskartta ohjeistaa eri tiloihin aina aulasta kattoterassille.\n
 \nAvoimien ovien päivässä on mahdollisuus kokea myös Töölönlahti Fi
 nlandia-talon silmin\, sillä kattoterassille on pääsy koko tapahtuman a
 jan.\n\nNäe Finlandia-talon AINO-huoneisto\nFinlandia-talon harvinaislaat
 uiset majoitustilat Aino ja Elissa ovat saavuttaneet suuren suosion heti F
 inlandia-talon avauduttua ja ovat siksi olleet lähes koko ajan varattuja.
  Avoimien ovien päivän yhteyteen on kuitenkin varattu vieraille pieni ra
 ko päästä kurkistamaan miltä AINO-huoneisto näyttää. Ainoa on mahdo
 llista päästä vilkaisemaan klo 14–14.30.\n\nHuoneistoihin on erilline
 n kulku Hesperianpuistoa vastapäätä. Suojellut huoneistomme eivät vali
 tettavasti ole esteettömiä. Vierailijamäärä on rajoitettu.\nNauti kah
 vilan ja Bistron tarjoiluista\nAvoimien ovien aikana vierailijoita palvele
 vat niin viinikahvila Cafe&amp\;Wine kuin Bistrokin. Myös Piazzalta voi o
 staa erilaista purtavaa ja virvokkeita. Lasten toiveet on huomioitu valiko
 imassa. Viinikahvilan ja Piazzan tarjoilupisteet ovat auki koko tapahtuman
  ajan klo 11–17.\n\nBistrossa on tarjolla kevyt lounasmenu klo 11–14.3
 0. Lounasmenun hinta on 39 euroa (kaksi ruokalajia) tai 54 euroa (kolme ru
 okalajia). Lounaalle ei voi tehdä pöytävarauksia. Klo 15 alkaen Bistros
 sa tarjoillaan normaaliin tapaan á la carte -illallisia. Varauksia illall
 iselle voi tehdä klo 17 alkaen.\n&nbsp\;\nMuista pöytävaraus TableOnlin
 e\n\n&nbsp\;
ATTACH;FMTTYPE=image/jpeg:https://kohokohdat.fi/helsinki/wp-content/upload
 s/sites/3/2025/02/finlandia-talon-tapahtumat.jpg
CATEGORIES:Elämykset &amp; huvit,Keikat
LOCATION:Finlandia-talo\, Mannerheimintie 13e\, Helsinki\, Suomi
GEO:60.174861;24.932753
X-APPLE-STRUCTURED-LOCATION;VALUE=URI;X-ADDRESS=Mannerheimintie 13e\, Helsi
 nki\, Suomi;X-APPLE-RADIUS=100;X-TITLE=Finlandia-talo:geo:60.174861,24.932
 753
END:VEVENT
BEGIN:VTIMEZONE
TZID:Europe/Helsinki
X-LIC-LOCATION:Europe/Helsinki
BEGIN:STANDARD
DTSTART:20241027T030000
TZOFFSETFROM:+0300
TZOFFSETTO:+0200
TZNAME:EET
END:STANDARD
END:VTIMEZONE
END:VCALENDAR