BEGIN:VCALENDAR
VERSION:2.0
PRODID:-//wp-events-plugin.com//7.2.3.1//EN
TZID:Europe/Helsinki
X-WR-TIMEZONE:Europe/Helsinki
BEGIN:VEVENT
UID:3-194036@kohokohdat.fi
DTSTART;TZID=Europe/Helsinki:20240229T190000
DTEND;TZID=Europe/Helsinki:20240229T190000
DTSTAMP:20240216T161452Z
URL:https://kohokohdat.fi/helsinki/tapahtuma/jatkasaaren-komediaklubi/
SUMMARY:JÄTKÄSAAREN KOMEDIAKLUBI
DESCRIPTION:Jätkäsaaren Komediaklubi on jätkäsaarelainen stand-up klubi
 \, jossa niin kokeneemmat kuin uudemmatkin stand-up komedian atleetit pä
 äsevät virittelemään ja kokeilemaan juttujaan.\nLavalle klubi-illoissa
  nousee useita eri koomikoita\, jokaisella on noin 15 minuuttia aikaa kiri
 stää yleisön naurujänteet kireimmilleen.\n\nVakioisäntänä klubi-ill
 oissa toimii Jätkäsaaren paikallinen sekä ehdottomasti hauskin ja komei
 n koomikko Markku Pajarinen. Yli 12 vuoden kokemuksella Markku on nauratta
 nut yleisöä idästä länteen ja etelästä pohjoiseen.
ATTACH;FMTTYPE=image/jpeg:https://kohokohdat.fi/helsinki/wp-content/upload
 s/sites/3/2024/02/jatkasaaren-komediaklubi.jpg
CATEGORIES:Keikat,Stand up
LOCATION:Barley & Bait\, Välimerenkatu 20\, Helsinki\, Suomi
X-APPLE-STRUCTURED-LOCATION;VALUE=URI;X-ADDRESS=Välimerenkatu 20\, Helsink
 i\, Suomi;X-APPLE-RADIUS=100;X-TITLE=Barley & Bait:geo:0,0
END:VEVENT
BEGIN:VEVENT
UID:3-194037@kohokohdat.fi
DTSTART;TZID=Europe/Helsinki:20240321T190000
DTEND;TZID=Europe/Helsinki:20240321T190000
DTSTAMP:20240216T161516Z
URL:https://kohokohdat.fi/helsinki/tapahtuma/jatkasaaren-komediaklubi-2/
SUMMARY:JÄTKÄSAAREN KOMEDIAKLUBI
DESCRIPTION:Jätkäsaaren Komediaklubi on jätkäsaarelainen stand-up klubi
 \, jossa niin kokeneemmat kuin uudemmatkin stand-up komedian atleetit pä
 äsevät virittelemään ja kokeilemaan juttujaan.\nLavalle klubi-illoissa
  nousee useita eri koomikoita\, jokaisella on noin 15 minuuttia aikaa kiri
 stää yleisön naurujänteet kireimmilleen.\n\nVakioisäntänä klubi-ill
 oissa toimii Jätkäsaaren paikallinen sekä ehdottomasti hauskin ja komei
 n koomikko Markku Pajarinen. Yli 12 vuoden kokemuksella Markku on nauratta
 nut yleisöä idästä länteen ja etelästä pohjoiseen.
ATTACH;FMTTYPE=image/jpeg:https://kohokohdat.fi/helsinki/wp-content/upload
 s/sites/3/2024/02/jatkasaaren-komediaklubi.jpg
CATEGORIES:Keikat,Stand up
LOCATION:Barley & Bait\, Välimerenkatu 20\, Helsinki\, Suomi
X-APPLE-STRUCTURED-LOCATION;VALUE=URI;X-ADDRESS=Välimerenkatu 20\, Helsink
 i\, Suomi;X-APPLE-RADIUS=100;X-TITLE=Barley & Bait:geo:0,0
END:VEVENT
BEGIN:VEVENT
UID:3-194038@kohokohdat.fi
DTSTART;TZID=Europe/Helsinki:20240411T190000
DTEND;TZID=Europe/Helsinki:20240411T190000
DTSTAMP:20240216T161521Z
URL:https://kohokohdat.fi/helsinki/tapahtuma/jatkasaaren-komediaklubi-3/
SUMMARY:JÄTKÄSAAREN KOMEDIAKLUBI
DESCRIPTION:Jätkäsaaren Komediaklubi on jätkäsaarelainen stand-up klubi
 \, jossa niin kokeneemmat kuin uudemmatkin stand-up komedian atleetit pä
 äsevät virittelemään ja kokeilemaan juttujaan.\nLavalle klubi-illoissa
  nousee useita eri koomikoita\, jokaisella on noin 15 minuuttia aikaa kiri
 stää yleisön naurujänteet kireimmilleen.\n\nVakioisäntänä klubi-ill
 oissa toimii Jätkäsaaren paikallinen sekä ehdottomasti hauskin ja komei
 n koomikko Markku Pajarinen. Yli 12 vuoden kokemuksella Markku on nauratta
 nut yleisöä idästä länteen ja etelästä pohjoiseen.
ATTACH;FMTTYPE=image/jpeg:https://kohokohdat.fi/helsinki/wp-content/upload
 s/sites/3/2024/02/jatkasaaren-komediaklubi.jpg
CATEGORIES:Keikat,Stand up
LOCATION:Barley & Bait\, Välimerenkatu 20\, Helsinki\, Suomi
X-APPLE-STRUCTURED-LOCATION;VALUE=URI;X-ADDRESS=Välimerenkatu 20\, Helsink
 i\, Suomi;X-APPLE-RADIUS=100;X-TITLE=Barley & Bait:geo:0,0
END:VEVENT
BEGIN:VEVENT
UID:3-194039@kohokohdat.fi
DTSTART;TZID=Europe/Helsinki:20240502T190000
DTEND;TZID=Europe/Helsinki:20240502T190000
DTSTAMP:20240216T161533Z
URL:https://kohokohdat.fi/helsinki/tapahtuma/jatkasaaren-komediaklubi-4/
SUMMARY:JÄTKÄSAAREN KOMEDIAKLUBI
DESCRIPTION:Jätkäsaaren Komediaklubi on jätkäsaarelainen stand-up klubi
 \, jossa niin kokeneemmat kuin uudemmatkin stand-up komedian atleetit pä
 äsevät virittelemään ja kokeilemaan juttujaan.\nLavalle klubi-illoissa
  nousee useita eri koomikoita\, jokaisella on noin 15 minuuttia aikaa kiri
 stää yleisön naurujänteet kireimmilleen.\n\nVakioisäntänä klubi-ill
 oissa toimii Jätkäsaaren paikallinen sekä ehdottomasti hauskin ja komei
 n koomikko Markku Pajarinen. Yli 12 vuoden kokemuksella Markku on nauratta
 nut yleisöä idästä länteen ja etelästä pohjoiseen.
ATTACH;FMTTYPE=image/jpeg:https://kohokohdat.fi/helsinki/wp-content/upload
 s/sites/3/2024/02/jatkasaaren-komediaklubi.jpg
CATEGORIES:Keikat,Stand up
LOCATION:Barley & Bait\, Välimerenkatu 20\, Helsinki\, Suomi
X-APPLE-STRUCTURED-LOCATION;VALUE=URI;X-ADDRESS=Välimerenkatu 20\, Helsink
 i\, Suomi;X-APPLE-RADIUS=100;X-TITLE=Barley & Bait:geo:0,0
END:VEVENT
BEGIN:VEVENT
UID:3-194040@kohokohdat.fi
DTSTART;TZID=Europe/Helsinki:20240523T190000
DTEND;TZID=Europe/Helsinki:20240523T190000
DTSTAMP:20240216T161541Z
URL:https://kohokohdat.fi/helsinki/tapahtuma/jatkasaaren-komediaklubi-5/
SUMMARY:JÄTKÄSAAREN KOMEDIAKLUBI
DESCRIPTION:Jätkäsaaren Komediaklubi on jätkäsaarelainen stand-up klubi
 \, jossa niin kokeneemmat kuin uudemmatkin stand-up komedian atleetit pä
 äsevät virittelemään ja kokeilemaan juttujaan.\nLavalle klubi-illoissa
  nousee useita eri koomikoita\, jokaisella on noin 15 minuuttia aikaa kiri
 stää yleisön naurujänteet kireimmilleen.\n\nVakioisäntänä klubi-ill
 oissa toimii Jätkäsaaren paikallinen sekä ehdottomasti hauskin ja komei
 n koomikko Markku Pajarinen. Yli 12 vuoden kokemuksella Markku on nauratta
 nut yleisöä idästä länteen ja etelästä pohjoiseen.
ATTACH;FMTTYPE=image/jpeg:https://kohokohdat.fi/helsinki/wp-content/upload
 s/sites/3/2024/02/jatkasaaren-komediaklubi.jpg
CATEGORIES:Keikat,Stand up
LOCATION:Barley & Bait\, Välimerenkatu 20\, Helsinki\, Suomi
X-APPLE-STRUCTURED-LOCATION;VALUE=URI;X-ADDRESS=Välimerenkatu 20\, Helsink
 i\, Suomi;X-APPLE-RADIUS=100;X-TITLE=Barley & Bait:geo:0,0
END:VEVENT
BEGIN:VTIMEZONE
TZID:Europe/Helsinki
X-LIC-LOCATION:Europe/Helsinki
BEGIN:STANDARD
DTSTART:20231029T030000
TZOFFSETFROM:+0300
TZOFFSETTO:+0200
TZNAME:EET
END:STANDARD
BEGIN:DAYLIGHT
DTSTART:20240331T040000
TZOFFSETFROM:+0200
TZOFFSETTO:+0300
TZNAME:EEST
END:DAYLIGHT
END:VTIMEZONE
END:VCALENDAR