BEGIN:VCALENDAR
VERSION:2.0
PRODID:-//wp-events-plugin.com//7.2.3.1//EN
TZID:Europe/Helsinki
X-WR-TIMEZONE:Europe/Helsinki
BEGIN:VEVENT
UID:3-204631@kohokohdat.fi
DTSTART;TZID=Europe/Helsinki;VALUE=DATE:20250201
DTEND;TZID=Europe/Helsinki;VALUE=DATE:20250303
DTSTAMP:20250217T073955Z
URL:https://kohokohdat.fi/helsinki/tapahtuma/larissa-sansour/
SUMMARY:Larissa Sansour
DESCRIPTION:Palestiinalais-tanskalaisen Larissa Sansourin näyttely Amos Re
 xissa esittelee ajalla 9.10.2024–2.3.2025 ajankohtaiset aiheet\, kuten y
 lisukupolviset traumat sekä kodin ja kotimaan jättäminen pakon edessä 
 kietoutuvat kuviteltuihin maailmoihin scifin\, oopperan ja dokumentaarisen
  aineiston kautta.
ATTACH;FMTTYPE=image/jpeg:https://kohokohdat.fi/helsinki/wp-content/upload
 s/sites/3/2025/01/amox-rexin-nayttelyt-2025.jpg
CATEGORIES:Näyttelyt
LOCATION:Amos Rex\, Mannerheimintie 22-24\, Helsinki\, Suomi
X-APPLE-STRUCTURED-LOCATION;VALUE=URI;X-ADDRESS=Mannerheimintie 22-24\, Hel
 sinki\, Suomi;X-APPLE-RADIUS=100;X-TITLE=Amos Rex:geo:0,0
END:VEVENT
BEGIN:VTIMEZONE
TZID:Europe/Helsinki
X-LIC-LOCATION:Europe/Helsinki
BEGIN:STANDARD
DTSTART:20241027T030000
TZOFFSETFROM:+0300
TZOFFSETTO:+0200
TZNAME:EET
END:STANDARD
END:VTIMEZONE
END:VCALENDAR